BEGIN:VCALENDAR
VERSION:2.0
METHOD:PUBLISH
BEGIN:VEVENT
DTSTART:20260401T000000
DTEND:20260401T235900
TRANSP: OPAQUE
SEQUENCE:0
UID:
DTSTAMP:20260423T022709
SUMMARY:Whiskey Bent Hideaway
DESCRIPTION:reservation
PRIORITY:1
CLASS:PUBLIC
BEGIN:VALARM
TZOFFSETTO:-0600
ACTION:DISPLAY
DESCRIPTION:Reminder
END:VALARM
END:VEVENT
BEGIN:VEVENT
DTSTART:20260402T000000
DTEND:20260402T235900
TRANSP: OPAQUE
SEQUENCE:0
UID:
DTSTAMP:20260423T022709
SUMMARY:Whiskey Bent Hideaway
DESCRIPTION:reservation
PRIORITY:1
CLASS:PUBLIC
BEGIN:VALARM
TZOFFSETTO:-0600
ACTION:DISPLAY
DESCRIPTION:Reminder
END:VALARM
END:VEVENT
BEGIN:VEVENT
DTSTART:20260403T000000
DTEND:20260403T235900
TRANSP: OPAQUE
SEQUENCE:0
UID:
DTSTAMP:20260423T022709
SUMMARY:Whiskey Bent Hideaway
DESCRIPTION:reservation
PRIORITY:1
CLASS:PUBLIC
BEGIN:VALARM
TZOFFSETTO:-0600
ACTION:DISPLAY
DESCRIPTION:Reminder
END:VALARM
END:VEVENT
BEGIN:VEVENT
DTSTART:20260404T000000
DTEND:20260404T235900
TRANSP: OPAQUE
SEQUENCE:0
UID:
DTSTAMP:20260423T022709
SUMMARY:Whiskey Bent Hideaway
DESCRIPTION:reservation
PRIORITY:1
CLASS:PUBLIC
BEGIN:VALARM
TZOFFSETTO:-0600
ACTION:DISPLAY
DESCRIPTION:Reminder
END:VALARM
END:VEVENT
BEGIN:VEVENT
DTSTART:20260405T000000
DTEND:20260405T235900
TRANSP: OPAQUE
SEQUENCE:0
UID:
DTSTAMP:20260423T022709
SUMMARY:Whiskey Bent Hideaway
DESCRIPTION:reservation
PRIORITY:1
CLASS:PUBLIC
BEGIN:VALARM
TZOFFSETTO:-0600
ACTION:DISPLAY
DESCRIPTION:Reminder
END:VALARM
END:VEVENT
BEGIN:VEVENT
DTSTART:20260406T000000
DTEND:20260406T235900
TRANSP: OPAQUE
SEQUENCE:0
UID:
DTSTAMP:20260423T022709
SUMMARY:Whiskey Bent Hideaway
DESCRIPTION:reservation
PRIORITY:1
CLASS:PUBLIC
BEGIN:VALARM
TZOFFSETTO:-0600
ACTION:DISPLAY
DESCRIPTION:Reminder
END:VALARM
END:VEVENT
BEGIN:VEVENT
DTSTART:20260407T000000
DTEND:20260407T235900
TRANSP: OPAQUE
SEQUENCE:0
UID:
DTSTAMP:20260423T022709
SUMMARY:Whiskey Bent Hideaway
DESCRIPTION:reservation
PRIORITY:1
CLASS:PUBLIC
BEGIN:VALARM
TZOFFSETTO:-0600
ACTION:DISPLAY
DESCRIPTION:Reminder
END:VALARM
END:VEVENT
BEGIN:VEVENT
DTSTART:20260408T000000
DTEND:20260408T235900
TRANSP: OPAQUE
SEQUENCE:0
UID:
DTSTAMP:20260423T022709
SUMMARY:Whiskey Bent Hideaway
DESCRIPTION:reservation
PRIORITY:1
CLASS:PUBLIC
BEGIN:VALARM
TZOFFSETTO:-0600
ACTION:DISPLAY
DESCRIPTION:Reminder
END:VALARM
END:VEVENT
BEGIN:VEVENT
DTSTART:20260409T000000
DTEND:20260409T235900
TRANSP: OPAQUE
SEQUENCE:0
UID:
DTSTAMP:20260423T022709
SUMMARY:Whiskey Bent Hideaway
DESCRIPTION:reservation
PRIORITY:1
CLASS:PUBLIC
BEGIN:VALARM
TZOFFSETTO:-0600
ACTION:DISPLAY
DESCRIPTION:Reminder
END:VALARM
END:VEVENT
BEGIN:VEVENT
DTSTART:20260410T000000
DTEND:20260410T235900
TRANSP: OPAQUE
SEQUENCE:0
UID:
DTSTAMP:20260423T022709
SUMMARY:Whiskey Bent Hideaway
DESCRIPTION:reservation
PRIORITY:1
CLASS:PUBLIC
BEGIN:VALARM
TZOFFSETTO:-0600
ACTION:DISPLAY
DESCRIPTION:Reminder
END:VALARM
END:VEVENT
BEGIN:VEVENT
DTSTART:20260411T000000
DTEND:20260411T235900
TRANSP: OPAQUE
SEQUENCE:0
UID:
DTSTAMP:20260423T022709
SUMMARY:Whiskey Bent Hideaway
DESCRIPTION:reservation
PRIORITY:1
CLASS:PUBLIC
BEGIN:VALARM
TZOFFSETTO:-0600
ACTION:DISPLAY
DESCRIPTION:Reminder
END:VALARM
END:VEVENT
BEGIN:VEVENT
DTSTART:20260412T000000
DTEND:20260412T235900
TRANSP: OPAQUE
SEQUENCE:0
UID:
DTSTAMP:20260423T022709
SUMMARY:Whiskey Bent Hideaway
DESCRIPTION:reservation
PRIORITY:1
CLASS:PUBLIC
BEGIN:VALARM
TZOFFSETTO:-0600
ACTION:DISPLAY
DESCRIPTION:Reminder
END:VALARM
END:VEVENT
BEGIN:VEVENT
DTSTART:20260415T000000
DTEND:20260415T235900
TRANSP: OPAQUE
SEQUENCE:0
UID:
DTSTAMP:20260423T022709
SUMMARY:Whiskey Bent Hideaway
DESCRIPTION:reservation
PRIORITY:1
CLASS:PUBLIC
BEGIN:VALARM
TZOFFSETTO:-0600
ACTION:DISPLAY
DESCRIPTION:Reminder
END:VALARM
END:VEVENT
BEGIN:VEVENT
DTSTART:20260416T000000
DTEND:20260416T235900
TRANSP: OPAQUE
SEQUENCE:0
UID:
DTSTAMP:20260423T022709
SUMMARY:Whiskey Bent Hideaway
DESCRIPTION:reservation
PRIORITY:1
CLASS:PUBLIC
BEGIN:VALARM
TZOFFSETTO:-0600
ACTION:DISPLAY
DESCRIPTION:Reminder
END:VALARM
END:VEVENT
BEGIN:VEVENT
DTSTART:20260417T000000
DTEND:20260417T235900
TRANSP: OPAQUE
SEQUENCE:0
UID:
DTSTAMP:20260423T022709
SUMMARY:Whiskey Bent Hideaway
DESCRIPTION:reservation
PRIORITY:1
CLASS:PUBLIC
BEGIN:VALARM
TZOFFSETTO:-0600
ACTION:DISPLAY
DESCRIPTION:Reminder
END:VALARM
END:VEVENT
BEGIN:VEVENT
DTSTART:20260418T000000
DTEND:20260418T235900
TRANSP: OPAQUE
SEQUENCE:0
UID:
DTSTAMP:20260423T022709
SUMMARY:Whiskey Bent Hideaway
DESCRIPTION:reservation
PRIORITY:1
CLASS:PUBLIC
BEGIN:VALARM
TZOFFSETTO:-0600
ACTION:DISPLAY
DESCRIPTION:Reminder
END:VALARM
END:VEVENT
BEGIN:VEVENT
DTSTART:20260419T000000
DTEND:20260419T235900
TRANSP: OPAQUE
SEQUENCE:0
UID:
DTSTAMP:20260423T022709
SUMMARY:Whiskey Bent Hideaway
DESCRIPTION:reservation
PRIORITY:1
CLASS:PUBLIC
BEGIN:VALARM
TZOFFSETTO:-0600
ACTION:DISPLAY
DESCRIPTION:Reminder
END:VALARM
END:VEVENT
BEGIN:VEVENT
DTSTART:20260424T000000
DTEND:20260424T235900
TRANSP: OPAQUE
SEQUENCE:0
UID:
DTSTAMP:20260423T022709
SUMMARY:Whiskey Bent Hideaway
DESCRIPTION:reservation
PRIORITY:1
CLASS:PUBLIC
BEGIN:VALARM
TZOFFSETTO:-0600
ACTION:DISPLAY
DESCRIPTION:Reminder
END:VALARM
END:VEVENT
BEGIN:VEVENT
DTSTART:20260425T000000
DTEND:20260425T235900
TRANSP: OPAQUE
SEQUENCE:0
UID:
DTSTAMP:20260423T022709
SUMMARY:Whiskey Bent Hideaway
DESCRIPTION:reservation
PRIORITY:1
CLASS:PUBLIC
BEGIN:VALARM
TZOFFSETTO:-0600
ACTION:DISPLAY
DESCRIPTION:Reminder
END:VALARM
END:VEVENT
BEGIN:VEVENT
DTSTART:20260426T000000
DTEND:20260426T235900
TRANSP: OPAQUE
SEQUENCE:0
UID:
DTSTAMP:20260423T022709
SUMMARY:Whiskey Bent Hideaway
DESCRIPTION:reservation
PRIORITY:1
CLASS:PUBLIC
BEGIN:VALARM
TZOFFSETTO:-0600
ACTION:DISPLAY
DESCRIPTION:Reminder
END:VALARM
END:VEVENT
BEGIN:VEVENT
DTSTART:20260430T000000
DTEND:20260430T235900
TRANSP: OPAQUE
SEQUENCE:0
UID:
DTSTAMP:20260423T022709
SUMMARY:Whiskey Bent Hideaway
DESCRIPTION:reservation
PRIORITY:1
CLASS:PUBLIC
BEGIN:VALARM
TZOFFSETTO:-0600
ACTION:DISPLAY
DESCRIPTION:Reminder
END:VALARM
END:VEVENT
END:VCALENDAR
