BEGIN:VCALENDAR
VERSION:2.0
METHOD:PUBLISH
BEGIN:VEVENT
DTSTART:20260426T000000
DTEND:20260426T235900
TRANSP: OPAQUE
SEQUENCE:0
UID:
DTSTAMP:20260423T022838
SUMMARY:Shangri Lodge
DESCRIPTION:reservation
PRIORITY:1
CLASS:PUBLIC
BEGIN:VALARM
TZOFFSETTO:-0600
ACTION:DISPLAY
DESCRIPTION:Reminder
END:VALARM
END:VEVENT
BEGIN:VEVENT
DTSTART:20260427T000000
DTEND:20260427T235900
TRANSP: OPAQUE
SEQUENCE:0
UID:
DTSTAMP:20260423T022838
SUMMARY:Shangri Lodge
DESCRIPTION:reservation
PRIORITY:1
CLASS:PUBLIC
BEGIN:VALARM
TZOFFSETTO:-0600
ACTION:DISPLAY
DESCRIPTION:Reminder
END:VALARM
END:VEVENT
BEGIN:VEVENT
DTSTART:20260428T000000
DTEND:20260428T235900
TRANSP: OPAQUE
SEQUENCE:0
UID:
DTSTAMP:20260423T022838
SUMMARY:Shangri Lodge
DESCRIPTION:reservation
PRIORITY:1
CLASS:PUBLIC
BEGIN:VALARM
TZOFFSETTO:-0600
ACTION:DISPLAY
DESCRIPTION:Reminder
END:VALARM
END:VEVENT
BEGIN:VEVENT
DTSTART:20260429T000000
DTEND:20260429T235900
TRANSP: OPAQUE
SEQUENCE:0
UID:
DTSTAMP:20260423T022838
SUMMARY:Shangri Lodge
DESCRIPTION:reservation
PRIORITY:1
CLASS:PUBLIC
BEGIN:VALARM
TZOFFSETTO:-0600
ACTION:DISPLAY
DESCRIPTION:Reminder
END:VALARM
END:VEVENT
END:VCALENDAR
